Workbook

Sheet Vakjury stemresultaten
A1: Kunstenaar en werk | B1: Jurylid 1 | C1: Jurylid 2 | D1: Jurylid 3 | E1: Jurylid 4 | F1: Jurylid 5 | G1: Totaal | H1: Eindplaats | I1: Finale punten
A2: Alen Kobe – Nutsvoorziening | B2: 2 | C2: 3 | D2: 1 | E2: 5 | F2: 12 | G2: =SUM(B2:F2) -> 23 | H2: =RANK(G2,$G$2:$G$13,0) -> 10 | I2: =13-RANK(G2,$G$2:$G$13,0)-(COUNTIF($G$2:$G$13,G2)-1)/2 -> 3
A3: Ghiette Melissa – Kikkeboo | B3: 6 | C3: 5 | D3: 3 | E3: 1 | F3: 2 | G3: =SUM(B3:F3) -> 17 | H3: =RANK(G3,$G$2:$G$13,0) -> 12 | I3: =13-RANK(G3,$G$2:$G$13,0)-(COUNTIF($G$2:$G$13,G3)-1)/2 -> 1
A4: Hendrickx Marc – Verdwaald | B4: 7 | C4: 4 | D4: 2 | E4: 4 | F4: 4 | G4: =SUM(B4:F4) -> 21 | H4: =RANK(G4,$G$2:$G$13,0) -> 11 | I4: =13-RANK(G4,$G$2:$G$13,0)-(COUNTIF($G$2:$G$13,G4)-1)/2 -> 2
A5: Kalle Ton – Fruitbank | B5: 12 | C5: 12 | D5: 7 | E5: 8 | F5: 8 | G5: =SUM(B5:F5) -> 47 | H5: =RANK(G5,$G$2:$G$13,0) -> 2 | I5: =13-RANK(G5,$G$2:$G$13,0)-(COUNTIF($G$2:$G$13,G5)-1)/2 -> 11
A6: Lattré Hendrik – "Alles hat ein ende nur die Wurst hat zwei" | B6: 9 | C6: 8 | D6: 4 | E6: 10 | F6: 6 | G6: =SUM(B6:F6) -> 37 | H6: =RANK(G6,$G$2:$G$13,0) -> 3 | I6: =13-RANK(G6,$G$2:$G$13,0)-(COUNTIF($G$2:$G$13,G6)-1)/2 -> 10
A7: Lucas Gino – A strange dialogue | B7: 4 | C7: 10 | D7: 5 | E7: 2 | F7: 7 | G7: =SUM(B7:F7) -> 28 | H7: =RANK(G7,$G$2:$G$13,0) -> 8 | I7: =13-RANK(G7,$G$2:$G$13,0)-(COUNTIF($G$2:$G$13,G7)-1)/2 -> 4.5
A8: Perbal/Bélibaste – Rainplane | B8: 8 | C8: 9 | D8: 11 | E8: 3 | F8: 3 | G8: =SUM(B8:F8) -> 34 | H8: =RANK(G8,$G$2:$G$13,0) -> 6 | I8: =13-RANK(G8,$G$2:$G$13,0)-(COUNTIF($G$2:$G$13,G8)-1)/2 -> 7
A9: Speybrouck Sofia – Water 44 | B9: 10 | C9: 7 | D9: 12 | E9: 6 | F9: 1 | G9: =SUM(B9:F9) -> 36 | H9: =RANK(G9,$G$2:$G$13,0) -> 4 | I9: =13-RANK(G9,$G$2:$G$13,0)-(COUNTIF($G$2:$G$13,G9)-1)/2 -> 8.5
A10: Valk Paulien – Jakobsladder | B10: 3 | C10: 6 | D10: 8 | E10: 9 | F10: 10 | G10: =SUM(B10:F10) -> 36 | H10: =RANK(G10,$G$2:$G$13,0) -> 4 | I10: =13-RANK(G10,$G$2:$G$13,0)-(COUNTIF($G$2:$G$13,G10)-1)/2 -> 8.5
A11: Van Bemmelen Eva – De omhelzing | B11: 11 | C11: 11 | D11: 10 | E11: 11 | F11: 11 | G11: =SUM(B11:F11) -> 54 | H11: =RANK(G11,$G$2:$G$13,0) -> 1 | I11: =13-RANK(G11,$G$2:$G$13,0)-(COUNTIF($G$2:$G$13,G11)-1)/2 -> 12
A12: Van Moerkercke Guillaume – The pointer | B12: 1 | C12: 1 | D12: 6 | E12: 12 | F12: 9 | G12: =SUM(B12:F12) -> 29 | H12: =RANK(G12,$G$2:$G$13,0) -> 7 | I12: =13-RANK(G12,$G$2:$G$13,0)-(COUNTIF($G$2:$G$13,G12)-1)/2 -> 6
A13: Van de Vijver Peter – Dans | B13: 5 | C13: 2 | D13: 9 | E13: 7 | F13: 5 | G13: =SUM(B13:F13) -> 28 | H13: =RANK(G13,$G$2:$G$13,0) -> 8 | I13: =13-RANK(G13,$G$2:$G$13,0)-(COUNTIF($G$2:$G$13,G13)-1)/2 -> 4.5
A15: De kolom 'Finale punten' past de reglementregel toe: bij gelijke totalen (ex aequo) worden de punten van de betrokken plaatsen samengeteld en gelijk verdeeld.

Sheet Publiekstemming
A1: Kunstenaar en werk | B1: Aantal stemmen (publiek) | C1: Eindplaats | D1: Finale punten
A2: Alen Kobe – Nutsvoorziening | B2: 2 | C2: =RANK(B2,$B$2:$B$13,0) -> 9 | D2: =13-RANK(B2,$B$2:$B$13,0)-(COUNTIF($B$2:$B$13,B2)-1)/2 -> 4
A3: Ghiette Melissa – Kikkeboo | B3: 63 | C3: =RANK(B3,$B$2:$B$13,0) -> 3 | D3: =13-RANK(B3,$B$2:$B$13,0)-(COUNTIF($B$2:$B$13,B3)-1)/2 -> 10
A4: Hendrickx Marc – Verdwaald | B4: 1 | C4: =RANK(B4,$B$2:$B$13,0) -> 10 | D4: =13-RANK(B4,$B$2:$B$13,0)-(COUNTIF($B$2:$B$13,B4)-1)/2 -> 2
A5: Kalle Ton – Fruitbank | B5: 7 | C5: =RANK(B5,$B$2:$B$13,0) -> 7 | D5: =13-RANK(B5,$B$2:$B$13,0)-(COUNTIF($B$2:$B$13,B5)-1)/2 -> 6
A6: Lattré Hendrik – "Alles hat ein ende nur die Wurst hat zwei" | B6: 234 | C6: =RANK(B6,$B$2:$B$13,0) -> 1 | D6: =13-RANK(B6,$B$2:$B$13,0)-(COUNTIF($B$2:$B$13,B6)-1)/2 -> 12
A7: Lucas Gino – A strange dialogue | B7: 39 | C7: =RANK(B7,$B$2:$B$13,0) -> 5 | D7: =13-RANK(B7,$B$2:$B$13,0)-(COUNTIF($B$2:$B$13,B7)-1)/2 -> 8
A8: Perbal/Bélibaste – Rainplane | B8: 48 | C8: =RANK(B8,$B$2:$B$13,0) -> 4 | D8: =13-RANK(B8,$B$2:$B$13,0)-(COUNTIF($B$2:$B$13,B8)-1)/2 -> 9
A9: Speybrouck Sofia – Water 44 | B9: 29 | C9: =RANK(B9,$B$2:$B$13,0) -> 6 | D9: =13-RANK(B9,$B$2:$B$13,0)-(COUNTIF($B$2:$B$13,B9)-1)/2 -> 7
A10: Valk Paulien – Jakobsladder | B10: 1 | C10: =RANK(B10,$B$2:$B$13,0) -> 10 | D10: =13-RANK(B10,$B$2:$B$13,0)-(COUNTIF($B$2:$B$13,B10)-1)/2 -> 2
A11: Van Bemmelen Eva – De omhelzing | B11: 179 | C11: =RANK(B11,$B$2:$B$13,0) -> 2 | D11: =13-RANK(B11,$B$2:$B$13,0)-(COUNTIF($B$2:$B$13,B11)-1)/2 -> 11
A12: Van Moerkercke Guillaume – The pointer | B12: 3 | C12: =RANK(B12,$B$2:$B$13,0) -> 8 | D12: =13-RANK(B12,$B$2:$B$13,0)-(COUNTIF($B$2:$B$13,B12)-1)/2 -> 5
A13: Van de Vijver Peter – Dans | B13: 1 | C13: =RANK(B13,$B$2:$B$13,0) -> 10 | D13: =13-RANK(B13,$B$2:$B$13,0)-(COUNTIF($B$2:$B$13,B13)-1)/2 -> 2
A15: De kolom 'Finale punten' past de reglementregel toe: bij gelijke totalen (ex aequo) worden de punten van de betrokken plaatsen samengeteld en gelijk verdeeld.

Sheet Totaalscore
A1: Kunstenaar en werk | B1: Vakjury (finale punten) | C1: Publiek (finale punten) | D1: Totaal (max 24 / min 2) | E1: Eindplaats
A2: ='Vakjury stemresultaten'!A2 -> Alen Kobe – Nutsvoorziening | B2: ='Vakjury stemresultaten'!I2 -> 3 | C2: =Publiekstemming!D2 -> 4 | D2: =B2+C2 -> 7 | E2: =RANK(D2,$D$2:$D$13,0) -> 10
A3: ='Vakjury stemresultaten'!A3 -> Ghiette Melissa – Kikkeboo | B3: ='Vakjury stemresultaten'!I3 -> 1 | C3: =Publiekstemming!D3 -> 10 | D3: =B3+C3 -> 11 | E3: =RANK(D3,$D$2:$D$13,0) -> 7
A4: ='Vakjury stemresultaten'!A4 -> Hendrickx Marc – Verdwaald | B4: ='Vakjury stemresultaten'!I4 -> 2 | C4: =Publiekstemming!D4 -> 2 | D4: =B4+C4 -> 4 | E4: =RANK(D4,$D$2:$D$13,0) -> 12
A5: ='Vakjury stemresultaten'!A5 -> Kalle Ton – Fruitbank | B5: ='Vakjury stemresultaten'!I5 -> 11 | C5: =Publiekstemming!D5 -> 6 | D5: =B5+C5 -> 17 | E5: =RANK(D5,$D$2:$D$13,0) -> 3
A6: ='Vakjury stemresultaten'!A6 -> Lattré Hendrik – "Alles hat ein ende nur die Wurst hat zwei" | B6: ='Vakjury stemresultaten'!I6 -> 10 | C6: =Publiekstemming!D6 -> 12 | D6: =B6+C6 -> 22 | E6: =RANK(D6,$D$2:$D$13,0) -> 2
A7: ='Vakjury stemresultaten'!A7 -> Lucas Gino – A strange dialogue | B7: ='Vakjury stemresultaten'!I7 -> 4.5 | C7: =Publiekstemming!D7 -> 8 | D7: =B7+C7 -> 12.5 | E7: =RANK(D7,$D$2:$D$13,0) -> 6
A8: ='Vakjury stemresultaten'!A8 -> Perbal/Bélibaste – Rainplane | B8: ='Vakjury stemresultaten'!I8 -> 7 | C8: =Publiekstemming!D8 -> 9 | D8: =B8+C8 -> 16 | E8: =RANK(D8,$D$2:$D$13,0) -> 4
A9: ='Vakjury stemresultaten'!A9 -> Speybrouck Sofia – Water 44 | B9: ='Vakjury stemresultaten'!I9 -> 8.5 | C9: =Publiekstemming!D9 -> 7 | D9: =B9+C9 -> 15.5 | E9: =RANK(D9,$D$2:$D$13,0) -> 5
A10: ='Vakjury stemresultaten'!A10 -> Valk Paulien – Jakobsladder | B10: ='Vakjury stemresultaten'!I10 -> 8.5 | C10: =Publiekstemming!D10 -> 2 | D10: =B10+C10 -> 10.5 | E10: =RANK(D10,$D$2:$D$13,0) -> 9
A11: ='Vakjury stemresultaten'!A11 -> Van Bemmelen Eva – De omhelzing | B11: ='Vakjury stemresultaten'!I11 -> 12 | C11: =Publiekstemming!D11 -> 11 | D11: =B11+C11 -> 23 | E11: =RANK(D11,$D$2:$D$13,0) -> 1
A12: ='Vakjury stemresultaten'!A12 -> Van Moerkercke Guillaume – The pointer | B12: ='Vakjury stemresultaten'!I12 -> 6 | C12: =Publiekstemming!D12 -> 5 | D12: =B12+C12 -> 11 | E12: =RANK(D12,$D$2:$D$13,0) -> 7
A13: ='Vakjury stemresultaten'!A13 -> Van de Vijver Peter – Dans | B13: ='Vakjury stemresultaten'!I13 -> 4.5 | C13: =Publiekstemming!D13 -> 2 | D13: =B13+C13 -> 6.5 | E13: =RANK(D13,$D$2:$D$13,0) -> 11
A15: Totaal = finale punten vakjury + finale punten publiek. Maximaal haalbaar: 12 + 12 = 24 punten. Minimaal haalbaar: 1 + 1 = 2 punten. Bij een gelijke eindstand (ex aequo) toont 'Eindplaats' dezelfde plaats voor beide werken.
